BEGIN:VCALENDAR
VERSION:2.0
PRODID:-//Dansk Militærhistorisk Køretøjs-Forening - ECPv6.0.12//NONSGML v1.0//EN
CALSCALE:GREGORIAN
METHOD:PUBLISH
X-ORIGINAL-URL:https://dhmva.org
X-WR-CALDESC:Begivenheder for Dansk Militærhistorisk Køretøjs-Forening
REFRESH-INTERVAL;VALUE=DURATION:PT1H
X-Robots-Tag:noindex
X-PUBLISHED-TTL:PT1H
BEGIN:VTIMEZONE
TZID:Europe/Copenhagen
BEGIN:DAYLIGHT
TZOFFSETFROM:+0100
TZOFFSETTO:+0200
TZNAME:CEST
DTSTART:20230326T010000
END:DAYLIGHT
BEGIN:STANDARD
TZOFFSETFROM:+0200
TZOFFSETTO:+0100
TZNAME:CET
DTSTART:20231029T010000
END:STANDARD
END:VTIMEZONE
BEGIN:VEVENT
DTSTART;TZID=Europe/Copenhagen:20231112T100000
DTEND;TZID=Europe/Copenhagen:20231112T170000
DTSTAMP:20260421T121054
CREATED:20231023T181143Z
LAST-MODIFIED:20231023T183512Z
UID:23301-1699783200-1699808400@dhmva.org
SUMMARY:Samlermesse i Rødovrehallen 12. November 2023
DESCRIPTION:  \nSøndag 12. November kl.10.  Rødovrehallen\, Rødovre Parkvej 525\, 2610 Rødovre. \nBemærk at der i år er nye retningslinjer for adgang for folk der ikke er medlem af VHS  \n \n\n\n\n\nB-Medlemsskab (vaabenhistoriskselskab.dk)
URL:https://dhmva.org/event/samlermesse-i-roedovrehallen/
CATEGORIES:DMKF er med på
ATTACH;FMTTYPE=image/jpeg:https://dhmva.org/wp-content/uploads/2023/10/Messen-12-12-23.jpg
END:VEVENT
END:VCALENDAR