BEGIN:VCALENDAR
VERSION:2.0
PRODID:-//Dansk Militærhistorisk Køretøjs-Forening - ECPv6.0.12//NONSGML v1.0//EN
CALSCALE:GREGORIAN
METHOD:PUBLISH
X-WR-CALNAME:Dansk Militærhistorisk Køretøjs-Forening
X-ORIGINAL-URL:https://dhmva.org
X-WR-CALDESC:Begivenheder for Dansk Militærhistorisk Køretøjs-Forening
REFRESH-INTERVAL;VALUE=DURATION:PT1H
X-Robots-Tag:noindex
X-PUBLISHED-TTL:PT1H
BEGIN:VTIMEZONE
TZID:Europe/Copenhagen
BEGIN:DAYLIGHT
TZOFFSETFROM:+0100
TZOFFSETTO:+0200
TZNAME:CEST
DTSTART:20250330T010000
END:DAYLIGHT
BEGIN:STANDARD
TZOFFSETFROM:+0200
TZOFFSETTO:+0100
TZNAME:CET
DTSTART:20251026T010000
END:STANDARD
END:VTIMEZONE
BEGIN:VEVENT
DTSTART;TZID=Europe/Copenhagen:20250628T080000
DTEND;TZID=Europe/Copenhagen:20250628T170000
DTSTAMP:20260420T201418
CREATED:20250619T123057Z
LAST-MODIFIED:20250619T123057Z
UID:30307-1751097600-1751130000@dhmva.org
SUMMARY:Åben hus hos CoatEx AB i Sverige
DESCRIPTION:Kom og gør et kup blandt mange reservedele til div. militære køretøjer\, også M.151 og M.38A1 \nAdressen er: Norra Järnvägsgatan 21\, 247 64 Veberöd.  Det ligger Ca. 35 km fra Malmø. \n 
URL:https://dhmva.org/event/aaben-hus-hos-coatex-ab-i-sverige/
CATEGORIES:Det sker
ATTACH;FMTTYPE=application/pdf:https://dhmva.org/wp-content/uploads/2025/06/Inbjudan-till-DMKF-.pdf
END:VEVENT
END:VCALENDAR