BEGIN:VCALENDAR
VERSION:2.0
PRODID:-//Dansk Militærhistorisk Køretøjs-Forening - ECPv6.0.12//NONSGML v1.0//EN
CALSCALE:GREGORIAN
METHOD:PUBLISH
X-ORIGINAL-URL:https://dhmva.org
X-WR-CALDESC:Begivenheder for Dansk Militærhistorisk Køretøjs-Forening
REFRESH-INTERVAL;VALUE=DURATION:PT1H
X-Robots-Tag:noindex
X-PUBLISHED-TTL:PT1H
BEGIN:VTIMEZONE
TZID:Europe/Copenhagen
BEGIN:DAYLIGHT
TZOFFSETFROM:+0100
TZOFFSETTO:+0200
TZNAME:CEST
DTSTART:20250330T010000
END:DAYLIGHT
BEGIN:STANDARD
TZOFFSETFROM:+0200
TZOFFSETTO:+0100
TZNAME:CET
DTSTART:20251026T010000
END:STANDARD
END:VTIMEZONE
BEGIN:VEVENT
DTSTART;TZID=Europe/Copenhagen:20250621T080000
DTEND;TZID=Europe/Copenhagen:20250622T170000
DTSTAMP:20260420T034515
CREATED:20250412T133431Z
LAST-MODIFIED:20250412T133431Z
UID:28897-1750492800-1750611600@dhmva.org
SUMMARY:Wartime in the Vale - England
DESCRIPTION:Skulle sommerferien føre vejen til England omkring 21-22 Juni\, er der her mulighed for at besøge et flot show med mange udstillinger og begivenheder. \nAshdown Camp\, Badsey Rd\, \, Evesham\, Worcestershire \, WR11 7PA\, United Kingdom. Wartime in the Vale – Ashdown WWII Camp
URL:https://dhmva.org/event/wartime-in-the-vale-england/
CATEGORIES:Det sker
ATTACH;FMTTYPE=image/jpeg:https://dhmva.org/wp-content/uploads/2025/04/2024111422034452.thumb_.jpg.3861494e0531d4d441a4267019f13dda.jpg
END:VEVENT
END:VCALENDAR