BEGIN:VCALENDAR
VERSION:2.0
PRODID:-//Dansk Militærhistorisk Køretøjs-Forening - ECPv6.0.12//NONSGML v1.0//EN
CALSCALE:GREGORIAN
METHOD:PUBLISH
X-ORIGINAL-URL:https://dhmva.org
X-WR-CALDESC:Begivenheder for Dansk Militærhistorisk Køretøjs-Forening
REFRESH-INTERVAL;VALUE=DURATION:PT1H
X-Robots-Tag:noindex
X-PUBLISHED-TTL:PT1H
BEGIN:VTIMEZONE
TZID:Europe/Copenhagen
BEGIN:DAYLIGHT
TZOFFSETFROM:+0100
TZOFFSETTO:+0200
TZNAME:CEST
DTSTART:20260329T010000
END:DAYLIGHT
BEGIN:STANDARD
TZOFFSETFROM:+0200
TZOFFSETTO:+0100
TZNAME:CET
DTSTART:20261025T010000
END:STANDARD
END:VTIMEZONE
BEGIN:VEVENT
DTSTART;TZID=Europe/Copenhagen:20260814T080000
DTEND;TZID=Europe/Copenhagen:20260816T170000
DTSTAMP:20260423T185807
CREATED:20250110T082923Z
LAST-MODIFIED:20260423T110813Z
UID:27345-1786694400-1786899600@dhmva.org
SUMMARY:Koldkrigstræffet Stevns Fort
DESCRIPTION:Koldkrigstræffet Stevns Fort  \n14-16 august 2026 \nDatoen er fastlagt\, og så er der igen mulighed for\, at tilmelde sig træffet. \nPris for 3 dages træf er ikke fastlagt i skrivende stund\, \nDet er altid klogt at være tidligt ude\, idet vi desværre grundet logistik og faciliteter \nkun kan være omkring 50 personer. \nDer kommer til at ske enormt meget nyt på fortet \nMuseet ser meget frem til at kunne tage imod os igen til august\, og forberedelserne på fortet \ner allerede begyndt. \nVi ses på det gamle\, men for tiden meget aktuelle forsvarsanlæg ESK 541 og Stevns Fort. \nFLERE INFORMATIONER TILGÅR\, SÅ HOLD ØJE HER \n 
URL:https://dhmva.org/event/koldkrigstraeffet-stevns-fort/
LOCATION:Korsnæbsvej 60\, 4673 Rødvig Stevns\, Korsnæbsvej 60\, Rødvig Stevns\, 4673\, Denmark
CATEGORIES:Det sker
ATTACH;FMTTYPE=image/jpeg:https://dhmva.org/wp-content/uploads/2025/01/Stevnsfortet_2022-20.jpg
END:VEVENT
BEGIN:VEVENT
DTSTART;TZID=Europe/Copenhagen:20260829T080000
DTEND;TZID=Europe/Copenhagen:20260830T170000
DTSTAMP:20260423T185807
CREATED:20240829T091941Z
LAST-MODIFIED:20260316T083827Z
UID:24815-1787990400-1788109200@dhmva.org
SUMMARY:Flight Fantastic - HCA Airport Odense
DESCRIPTION:  \nFly show og udstilling.  \nHCA Airport \nLufthavnvej 131 \n5270 Odense N \nSe mere her www.flightfantastic.dk \n 
URL:https://dhmva.org/event/flight-fantastic-beldringe/
CATEGORIES:Det sker
END:VEVENT
END:VCALENDAR